BEGIN:VCALENDAR
VERSION:2.0
PRODID:-//934 Gallery - ECPv6.15.20//NONSGML v1.0//EN
CALSCALE:GREGORIAN
METHOD:PUBLISH
X-WR-CALNAME:934 Gallery
X-ORIGINAL-URL:https://934gallery.org
X-WR-CALDESC:Events for 934 Gallery
REFRESH-INTERVAL;VALUE=DURATION:PT1H
X-Robots-Tag:noindex
X-PUBLISHED-TTL:PT1H
BEGIN:VTIMEZONE
TZID:America/New_York
BEGIN:DAYLIGHT
TZOFFSETFROM:-0500
TZOFFSETTO:-0400
TZNAME:EDT
DTSTART:20250309T070000
END:DAYLIGHT
BEGIN:STANDARD
TZOFFSETFROM:-0400
TZOFFSETTO:-0500
TZNAME:EST
DTSTART:20251102T060000
END:STANDARD
BEGIN:DAYLIGHT
TZOFFSETFROM:-0500
TZOFFSETTO:-0400
TZNAME:EDT
DTSTART:20260308T070000
END:DAYLIGHT
BEGIN:STANDARD
TZOFFSETFROM:-0400
TZOFFSETTO:-0500
TZNAME:EST
DTSTART:20261101T060000
END:STANDARD
BEGIN:DAYLIGHT
TZOFFSETFROM:-0500
TZOFFSETTO:-0400
TZNAME:EDT
DTSTART:20270314T070000
END:DAYLIGHT
BEGIN:STANDARD
TZOFFSETFROM:-0400
TZOFFSETTO:-0500
TZNAME:EST
DTSTART:20271107T060000
END:STANDARD
END:VTIMEZONE
BEGIN:VEVENT
DTSTART;TZID=America/New_York:20260307T120000
DTEND;TZID=America/New_York:20260307T150000
DTSTAMP:20260421T112457
CREATED:20260214T173840Z
LAST-MODIFIED:20260214T174342Z
UID:3002-1772884800-1772895600@934gallery.org
SUMMARY:Open Hours
DESCRIPTION:Saturday Open Hours at 934 Gallery\nSpend your Saturday exploring contemporary art in a welcoming\, intimate gallery setting. 934 Gallery showcases rotating exhibitions featuring compelling work by local\, national\, and international artists\, offering fresh perspectives and thoughtful visual experiences. \nOpen Saturdays | 12–3 PM\nDrop in anytime during open hours to view the current exhibition\, take your time with the work\, and enjoy a quiet\, inspiring stop in your weekend. \nFree & Open to the Public\nAdmission is always free\, and the gallery is ADA accessible\, ensuring everyone is welcome to experience the work.
URL:https://934gallery.org/event/open-hours-4/
LOCATION:934 Gallery\, 934 Cleveland Ave\, Columbus\, OH\, 43201\, United States
CATEGORIES:Open Hours
ATTACH;FMTTYPE=image/png:https://934gallery.org/wp-content/uploads/2026/02/934-Open-Hours-WEB-pink-1250x800px.png
END:VEVENT
BEGIN:VEVENT
DTSTART;TZID=America/New_York:20260306T180000
DTEND;TZID=America/New_York:20260306T210000
DTSTAMP:20260421T112457
CREATED:20260213T223047Z
LAST-MODIFIED:20260302T161903Z
UID:2983-1772820000-1772830800@934gallery.org
SUMMARY:March Opening Reception: Tenee’ Hart\, Odeta Xheka
DESCRIPTION:Join us Friday\, March 6 from 6–9 PM for the opening reception of our March exhibition\, featuring the work of:\n▪️ Tenee’ Hart @teneehart\n▪️ Odeta Xheka @odeta_xheka_visuals\n👉On view at 934 Gallery: March 6 – March 28 (Saturdays | Noon–3 PM)\nThis group exhibition brings together fiber sculpture\, and collage-based practices to explore the body as site\, archive\, and landscape. Through layered materials\, quiet tension\, and intimate gestures\, the artists examine feminism\, queerness\, family\, care\, and relational dynamics—inviting viewers into spaces where vulnerability\, memory\, and identity unfold with intention and restraint.\nSave the date and join us for an evening of thoughtful\, compelling work!\n🤝We are deeply grateful to our supporters: Greater Columbus Arts Council @gcac_cbus\, Ohio Arts Council @ohioartscouncil\, The Columbus Foundation @colsfoundation\, and Orange Barrel Media @orange_barrel_media. Thanks to their generosity\, our #PayArtists initiative continues in 2026\, ensuring all artists exhibiting at 934 Gallery are compensated\, regardless of sales.\n🖤All gallery staff are volunteers. We are proud to support artists and foster conversation through inclusive\, thoughtful exhibitions.
URL:https://934gallery.org/event/march-opening-reception/
LOCATION:934 Gallery\, 934 Cleveland Ave\, Columbus\, OH\, 43201\, United States
CATEGORIES:Opening Receptions
ATTACH;FMTTYPE=image/png:https://934gallery.org/wp-content/uploads/2026/03/03MAR_WEB-1250x800px-1.png
END:VEVENT
BEGIN:VEVENT
DTSTART;TZID=America/New_York:20260228T120000
DTEND;TZID=America/New_York:20260228T150000
DTSTAMP:20260421T112457
CREATED:20260214T170448Z
LAST-MODIFIED:20260214T173905Z
UID:2997-1772280000-1772290800@934gallery.org
SUMMARY:Open Hours
DESCRIPTION:Saturday Open Hours at 934 Gallery\nSpend your Saturday exploring contemporary art in a welcoming\, intimate gallery setting. 934 Gallery showcases rotating exhibitions featuring compelling work by local\, national\, and international artists\, offering fresh perspectives and thoughtful visual experiences. \nOpen Saturdays | 12–3 PM\nDrop in anytime during open hours to view the current exhibition\, take your time with the work\, and enjoy a quiet\, inspiring stop in your weekend. \nFree & Open to the Public\nAdmission is always free\, and the gallery is ADA accessible\, ensuring everyone is welcome to experience the work.
URL:https://934gallery.org/event/open-hours-3/
LOCATION:934 Gallery\, 934 Cleveland Ave\, Columbus\, OH\, 43201\, United States
CATEGORIES:Open Hours
ATTACH;FMTTYPE=image/png:https://934gallery.org/wp-content/uploads/2026/02/934-Open-Hours-WEB-1250x800px.png
END:VEVENT
BEGIN:VEVENT
DTSTART;TZID=America/New_York:20260221T120000
DTEND;TZID=America/New_York:20260221T150000
DTSTAMP:20260421T112457
CREATED:20260214T170344Z
LAST-MODIFIED:20260214T170530Z
UID:2995-1771675200-1771686000@934gallery.org
SUMMARY:Open Hours
DESCRIPTION:Saturday Open Hours at 934 Gallery\nSpend your Saturday exploring contemporary art in a welcoming\, intimate gallery setting. 934 Gallery showcases rotating exhibitions featuring compelling work by local\, national\, and international artists\, offering fresh perspectives and thoughtful visual experiences. \nOpen Saturdays | 12–3 PM\nDrop in anytime during open hours to view the current exhibition\, take your time with the work\, and enjoy a quiet\, inspiring stop in your weekend. \nFree & Open to the Public\nAdmission is always free\, and the gallery is ADA accessible\, ensuring everyone is welcome to experience the work.
URL:https://934gallery.org/event/open-hours-2/
LOCATION:934 Gallery\, 934 Cleveland Ave\, Columbus\, OH\, 43201\, United States
CATEGORIES:Open Hours
ATTACH;FMTTYPE=image/png:https://934gallery.org/wp-content/uploads/2026/02/934-Open-Hours-WEB-1250x800px.png
END:VEVENT
BEGIN:VEVENT
DTSTART;TZID=America/New_York:20260214T120000
DTEND;TZID=America/New_York:20260214T150000
DTSTAMP:20260421T112457
CREATED:20260214T165954Z
LAST-MODIFIED:20260214T165954Z
UID:2991-1771070400-1771081200@934gallery.org
SUMMARY:Open Hours
DESCRIPTION:Saturday Open Hours at 934 Gallery\nSpend your Saturday exploring contemporary art in a welcoming\, intimate gallery setting. 934 Gallery showcases rotating exhibitions featuring compelling work by local\, national\, and international artists\, offering fresh perspectives and thoughtful visual experiences. \nOpen Saturdays | 12–3 PM\nDrop in anytime during open hours to view the current exhibition\, take your time with the work\, and enjoy a quiet\, inspiring stop in your weekend. \nFree & Open to the Public\nAdmission is always free\, and the gallery is ADA accessible\, ensuring everyone is welcome to experience the work.
URL:https://934gallery.org/event/open-hours/
LOCATION:934 Gallery\, 934 Cleveland Ave\, Columbus\, OH\, 43201\, United States
CATEGORIES:Open Hours
ATTACH;FMTTYPE=image/png:https://934gallery.org/wp-content/uploads/2026/02/934-Open-Hours-WEB-1250x800px.png
END:VEVENT
END:VCALENDAR